BEGIN:VCALENDAR
PRODID:-//eluceo/ical//2.0/EN
VERSION:2.0
CALSCALE:GREGORIAN
BEGIN:VEVENT
UID:146ecd693b30106b98e168274df8d707
DTSTAMP:20260423T065729Z
SUMMARY:Chess
DESCRIPTION:Jewish Federation of Greater Naples\nCommunity Calendar\nhttps:
 //jewishnaples.org/calendar/chess-1710761497\n\nJoin us for Chess!\n\nFree
  weekly program\, but please register so we know who is playing!\n\n 
DTSTART;TZID=America/New_York:20240416T130000
DTEND;TZID=America/New_York:20240416T150000
END:VEVENT
END:VCALENDAR
