BEGIN:VCALENDAR
PRODID:-//eluceo/ical//2.0/EN
VERSION:2.0
CALSCALE:GREGORIAN
BEGIN:VEVENT
UID:3e3e69d57f559e14031329102243f5ea
DTSTAMP:20260423T112854Z
SUMMARY:Chanukah PJ Library
DESCRIPTION:Jewish Federation of Greater Naples\nCommunity Calendar\nhttps:
 //jewishnaples.org/calendar/chanukah-pj-library-1729707889\n\n
DTSTART;TZID=America/New_York:20241210T173000
DTEND;TZID=America/New_York:20241210T183000
END:VEVENT
END:VCALENDAR
