BEGIN:VCALENDAR
PRODID:-//eluceo/ical//2.0/EN
VERSION:2.0
CALSCALE:GREGORIAN
BEGIN:VEVENT
UID:e26d5fb6d782f8f6fb6a83718843d7d4
DTSTAMP:20260423T115421Z
SUMMARY:Chabad Women's Circle
DESCRIPTION:Jewish Federation of Greater Naples\nCommunity Calendar\nhttps:
 //jewishnaples.org/calendar/chabad-womens-circle-3\n\nChabad Women's Circl
 e Movie Night\n\n6:00 pm
DTSTART;TZID=America/New_York:20171102T180000
DTEND;TZID=America/New_York:20171102T200000
END:VEVENT
END:VCALENDAR
