BEGIN:VCALENDAR
PRODID:-//eluceo/ical//2.0/EN
VERSION:2.0
CALSCALE:GREGORIAN
BEGIN:VEVENT
UID:c2ce16e7a7337b0b6089eee11604c4d8
DTSTAMP:20260423T052108Z
SUMMARY:Chabad Partner Appreciation Event
DESCRIPTION:Jewish Federation of Greater Naples\nCommunity Calendar\nhttps:
 //jewishnaples.org/calendar/chabad-partner-appreciation-event\n\nChabad\n\
 nPartner Appreciation Event
DTSTART;TZID=America/New_York:20180419T180000
DTEND;TZID=America/New_York:20180419T200000
END:VEVENT
END:VCALENDAR
