BEGIN:VCALENDAR
PRODID:-//eluceo/ical//2.0/EN
VERSION:2.0
CALSCALE:GREGORIAN
BEGIN:VEVENT
UID:ed1693980adc9fb244171f6cbb3426b1
DTSTAMP:20260420T061339Z
SUMMARY:Chabad Chanukah Community Celebration
DESCRIPTION:Jewish Federation of Greater Naples\nCommunity Calendar\nhttps:
 //jewishnaples.org/calendar/chabad-chanukah-community-celebration-15747810
 54\n\nJoin Chabad and the community to celebrate Chanukah!
DTSTART;TZID=America/New_York:20211130T170000
DTEND;TZID=America/New_York:20211130T200000
END:VEVENT
END:VCALENDAR
