BEGIN:VCALENDAR
PRODID:-//eluceo/ical//2.0/EN
VERSION:2.0
CALSCALE:GREGORIAN
BEGIN:VEVENT
UID:7214ea9c1346f4a08fc8342e7d6eb254
DTSTAMP:20260423T095553Z
SUMMARY:Chabad Chanukah Celebration
DESCRIPTION:Jewish Federation of Greater Naples\nCommunity Calendar\nhttps:
 //jewishnaples.org/calendar/chabad-chanukah-celebration-1634740839\n\nChab
 ad Chanukah Celebration
DTSTART;TZID=America/New_York:20221219T170000
DTEND;TZID=America/New_York:20221219T220000
END:VEVENT
END:VCALENDAR
