BEGIN:VCALENDAR
PRODID:-//eluceo/ical//2.0/EN
VERSION:2.0
CALSCALE:GREGORIAN
BEGIN:VEVENT
UID:658f457412ca8978fd6709c6af1d0569
DTSTAMP:20260423T132120Z
SUMMARY:Chabad Chanukah Celebration
DESCRIPTION:Jewish Federation of Greater Naples\nCommunity Calendar\nhttps:
 //jewishnaples.org/calendar/chabad-chanukah-celebration-1541690848\n\nChab
 ad Chanukah Celebration\n\nCambier Park
DTSTART;TZID=America/New_York:20191229T160000
DTEND;TZID=America/New_York:20191229T180000
END:VEVENT
END:VCALENDAR
