BEGIN:VCALENDAR
PRODID:-//eluceo/ical//2.0/EN
VERSION:2.0
CALSCALE:GREGORIAN
BEGIN:VEVENT
UID:b69926e032c5aa37c7f22b62aba7ed63
DTSTAMP:20260420T121237Z
SUMMARY:Chabad Chanukah
DESCRIPTION:Jewish Federation of Greater Naples\nCommunity Calendar\nhttps:
 //jewishnaples.org/calendar/chabad-chanukah\n\nChabad of Naples\n\nCambier
  Park\n\n5-7 PM\n\nEveryone is welcome to attend!
DTSTART;TZID=America/New_York:20181204T170000
DTEND;TZID=America/New_York:20181204T190000
END:VEVENT
END:VCALENDAR
