BEGIN:VCALENDAR
PRODID:-//eluceo/ical//2.0/EN
VERSION:2.0
CALSCALE:GREGORIAN
BEGIN:VEVENT
UID:d333ba3740ce08fec739ea362d393557
DTSTAMP:20260419T224733Z
SUMMARY:CHA Shabbat Services
DESCRIPTION:Jewish Federation of Greater Naples\nCommunity Calendar\nhttps:
 //jewishnaples.org/calendar/cha-shabbat-services\n\nChabad Shabbat Service
 s
DTSTART;TZID=America/New_York:20160604T100000
DTEND;TZID=America/New_York:20160604T100000
END:VEVENT
END:VCALENDAR
