BEGIN:VCALENDAR
PRODID:-//eluceo/ical//2.0/EN
VERSION:2.0
CALSCALE:GREGORIAN
BEGIN:VEVENT
UID:62272b92ddbddaf3ad40504f7ba10cac
DTSTAMP:20260423T232055Z
SUMMARY:CHA Scholastic Book Festival
DESCRIPTION:Jewish Federation of Greater Naples\nCommunity Calendar\nhttps:
 //jewishnaples.org/calendar/cha-scholastic-book-festival\n\nChabad
DTSTART;TZID=America/New_York:20170306T090000
DTEND;TZID=America/New_York:20170306T090000
END:VEVENT
END:VCALENDAR
