BEGIN:VCALENDAR
PRODID:-//eluceo/ical//2.0/EN
VERSION:2.0
CALSCALE:GREGORIAN
BEGIN:VEVENT
UID:f3fcb0962b1a50aa0e9d23a29ea7bbcc
DTSTAMP:20260423T111017Z
SUMMARY:CHA PreK Graduation
DESCRIPTION:Jewish Federation of Greater Naples\nCommunity Calendar\nhttps:
 //jewishnaples.org/calendar/cha-prek-graduation\n\nChabad
DTSTART;TZID=America/New_York:20170526T093000
DTEND;TZID=America/New_York:20170526T235959
END:VEVENT
END:VCALENDAR
