BEGIN:VCALENDAR
PRODID:-//eluceo/ical//2.0/EN
VERSION:2.0
CALSCALE:GREGORIAN
BEGIN:VEVENT
UID:85d007fc1d22827b39f81aaf736e784b
DTSTAMP:20260420T025948Z
SUMMARY:CHA Mom Breakfast
DESCRIPTION:Jewish Federation of Greater Naples\nCommunity Calendar\nhttps:
 //jewishnaples.org/calendar/cha-mom-breakfast\n\nChabad Parent Reception/M
 om's Breakfast
DTSTART;TZID=America/New_York:20160913T090000
DTEND;TZID=America/New_York:20160913T090000
END:VEVENT
END:VCALENDAR
