BEGIN:VCALENDAR
PRODID:-//eluceo/ical//2.0/EN
VERSION:2.0
CALSCALE:GREGORIAN
BEGIN:VEVENT
UID:712d0e49734be8585afa3c0651fd2838
DTSTAMP:20260424T002900Z
SUMMARY:CHA Joel Chasnoff presents "Israel 201"
DESCRIPTION:Jewish Federation of Greater Naples\nCommunity Calendar\nhttps:
 //jewishnaples.org/calendar/cha-joel-chasnoff-presents-israel-201\n\nJoel 
 Chasnoff will talk about his new book\, "Israel 201."\n\nVisit CJLnaples.c
 om to purchase tickets
DTSTART;TZID=America/New_York:20231213T140000
DTEND;TZID=America/New_York:20231213T160000
END:VEVENT
END:VCALENDAR
