BEGIN:VCALENDAR
PRODID:-//eluceo/ical//2.0/EN
VERSION:2.0
CALSCALE:GREGORIAN
BEGIN:VEVENT
UID:d4554c340a957ee2c2a0ec3b46aa18d7
DTSTAMP:20260423T135830Z
SUMMARY:CHA "Jews in Sports"
DESCRIPTION:Jewish Federation of Greater Naples\nCommunity Calendar\nhttps:
 //jewishnaples.org/calendar/cha-jews-in-sports\n\nPresentation of “Celeb
 rating Jewish Sportscasters Then & Now in the Studio\, on the Field and in
  the Booth.”\n\nAnd special presentation by Art Shamsky of the 1969 Worl
 d Series Champion New York Mets!\n\n \n\nVisit CJLnaples.com to purchase 
 tickets
DTSTART;TZID=America/New_York:20240205T190000
DTEND;TZID=America/New_York:20240205T210000
END:VEVENT
END:VCALENDAR
