BEGIN:VCALENDAR
PRODID:-//eluceo/ical//2.0/EN
VERSION:2.0
CALSCALE:GREGORIAN
BEGIN:VEVENT
UID:643ccf06c9c9edaf634a15a24737a7a4
DTSTAMP:20260419T235505Z
SUMMARY:CHA Holocaust-related book presentation
DESCRIPTION:Jewish Federation of Greater Naples\nCommunity Calendar\nhttps:
 //jewishnaples.org/calendar/cha-holocaust-related-book-presentation\n\nB.A
 . Van Sise will talk about his book “Invited to Life”\n\nVisit CJLnapl
 es.com to purchase tickets
DTSTART;TZID=America/New_York:20240220T140000
DTEND;TZID=America/New_York:20240220T160000
END:VEVENT
END:VCALENDAR
