BEGIN:VCALENDAR
PRODID:-//eluceo/ical//2.0/EN
VERSION:2.0
CALSCALE:GREGORIAN
BEGIN:VEVENT
UID:b4a748fd353931385f068cef8d7c65d6
DTSTAMP:20260422T025551Z
SUMMARY:CHA Community Chanukah Celebration
DESCRIPTION:Jewish Federation of Greater Naples\nCommunity Calendar\nhttps:
 //jewishnaples.org/calendar/cha-community-chanukah-celebration-1695917983\
 n\nChabad's Community Chanukah Celebration
DTSTART;TZID=America/New_York:20241229T150000
DTEND;TZID=America/New_York:20241229T170000
END:VEVENT
END:VCALENDAR
