BEGIN:VCALENDAR
PRODID:-//eluceo/ical//2.0/EN
VERSION:2.0
CALSCALE:GREGORIAN
BEGIN:VEVENT
UID:87b8e6bd6f138eb8724aa58e45c49f1a
DTSTAMP:20260422T233900Z
SUMMARY:CHA An evening with Rabbi Joseph Telushkin
DESCRIPTION:Jewish Federation of Greater Naples\nCommunity Calendar\nhttps:
 //jewishnaples.org/calendar/cha-an-evening-with-rabbi-joseph-telushkin\n\n
 Presentation by Rabbi Telushkin: “Words that Hurt\, Words that Heal”\n
 \nVisit CJLnaples.com to purchase tickets
DTSTART;TZID=America/New_York:20231114T190000
DTEND;TZID=America/New_York:20231114T210000
END:VEVENT
END:VCALENDAR
