BEGIN:VCALENDAR
PRODID:-//eluceo/ical//2.0/EN
VERSION:2.0
CALSCALE:GREGORIAN
BEGIN:VEVENT
UID:8351c31b2e58ee54172ac77037acb72b
DTSTAMP:20260423T153631Z
SUMMARY:CHA An Evening with Chanie Apfelbaum
DESCRIPTION:Jewish Federation of Greater Naples\nCommunity Calendar\nhttps:
 //jewishnaples.org/calendar/cha-an-evening-with-chanie-apfelbaum-169021048
 2\n\nStraight from Crown Heights\, Brooklyn\, food writer/photographer Cha
 nie Apfelbaum will talk about and present tips from her new book\, "Totall
 y Kosher." At the conclusion of her presentation\, sample a dessert or two
  from recipes in the book.\n\nVisit CJLnaples.com to purchase tickets
DTSTART;TZID=America/New_York:20240108T190000
DTEND;TZID=America/New_York:20240108T210000
END:VEVENT
END:VCALENDAR
