BEGIN:VCALENDAR
PRODID:-//eluceo/ical//2.0/EN
VERSION:2.0
CALSCALE:GREGORIAN
BEGIN:VEVENT
UID:83f2342bb3bc5fa843b52624d0235c40
DTSTAMP:20260421T145120Z
SUMMARY:Catholic-Jewish Dialogue-online extremism
DESCRIPTION:Jewish Federation of Greater Naples\nCommunity Calendar\nhttps:
 //jewishnaples.org/calendar/catholic-jewish-dialogue-online-extremism-1776
 715411\n\nLook for more details in summer 2026 on this and other upcoming 
 events hosted by the Catholic-Jewish Dialogue of Collier County during the
  2026-27 season.
DTSTART;TZID=America/New_York:20270124T130000
DTEND;TZID=America/New_York:20270124T150000
END:VEVENT
END:VCALENDAR
