BEGIN:VCALENDAR
PRODID:-//eluceo/ical//2.0/EN
VERSION:2.0
CALSCALE:GREGORIAN
BEGIN:VEVENT
UID:5d7275f73fcc51215ae225e959111ab2
DTSTAMP:20260421T144537Z
SUMMARY:Catholic-Jewish Dialogue of Collier County
DESCRIPTION:Jewish Federation of Greater Naples\nCommunity Calendar\nhttps:
 //jewishnaples.org/calendar/catholic-jewish-dialogue-of-collier-county-177
 6716180\n\nLook for more details in summer 2026 on this and other upcoming
  events hosted by the Catholic-Jewish Dialogue of Collier County during th
 e 2026-27 season.
DTSTART;TZID=America/New_York:20270321T130000
DTEND;TZID=America/New_York:20270321T150000
END:VEVENT
END:VCALENDAR
