BEGIN:VCALENDAR
PRODID:-//eluceo/ical//2.0/EN
VERSION:2.0
CALSCALE:GREGORIAN
BEGIN:VEVENT
UID:eef073b0089904979d9c63b185e12791
DTSTAMP:20260423T093902Z
SUMMARY:Cat lovers
DESCRIPTION:Jewish Federation of Greater Naples\nCommunity Calendar\nhttps:
 //jewishnaples.org/calendar/cat-lovers-1587471733\n\nCat lovers social hou
 r
DTSTART;TZID=America/New_York:20200424T110000
DTEND;TZID=America/New_York:20200424T114500
END:VEVENT
END:VCALENDAR
