BEGIN:VCALENDAR
PRODID:-//eluceo/ical//2.0/EN
VERSION:2.0
CALSCALE:GREGORIAN
BEGIN:VEVENT
UID:1b7514ec75fd88eb02ff61ee58904f9a
DTSTAMP:20260423T060819Z
SUMMARY:Cardozo Torah Study & Lunch
DESCRIPTION:Jewish Federation of Greater Naples\nCommunity Calendar\nhttps:
 //jewishnaples.org/calendar/cardozo-torah-study-lunch-5\n\nThe Cardozo Leg
 al Society\n\n \n\nFor years\, the Jewish Federation of Collier County’
 s Cardozo Legal Society has offered attorneys and judges an opportunity to
  get involved with the Jewish community of Southwest Florida while creatin
 g long lasting relationships with colleagues. \n\n \n\nThe Cardozo Legal
  Society has offered a great variety of social\, religious\, and networkin
 g programs to include speakers\, lunches\, and other amazing events.\n\n 
 \n\nThe Cardozo Legal Society is named afte...
DTSTART;TZID=America/New_York:20180322T120000
DTEND;TZID=America/New_York:20180322T140000
END:VEVENT
END:VCALENDAR
