BEGIN:VCALENDAR
PRODID:-//eluceo/ical//2.0/EN
VERSION:2.0
CALSCALE:GREGORIAN
BEGIN:VEVENT
UID:b4a324e05fd34d9fa8d4b293ca1f9203
DTSTAMP:20260422T024656Z
SUMMARY:Cardozo Torah Study & Lunch
DESCRIPTION:Jewish Federation of Greater Naples\nCommunity Calendar\nhttps:
 //jewishnaples.org/calendar/cardozo-torah-study-lunch-2\n\nThe Cardozo Leg
 al Society\n\n \n\nFor years\, the Jewish Federation of Collier County’
 s Cardozo Legal Society has offered attorneys and judges an opportunity to
  get involved with the Jewish community of Southwest Florida while creatin
 g long lasting relationships with colleagues. \n\n \n\nThe Cardozo Legal
  Society has offered a great variety of social\, religious\, and networkin
 g programs to include speakers\, lunches\, and other amazing events.\n\n 
 \n\nThe Cardozo Legal Society is named afte...
DTSTART;TZID=America/New_York:20171116T120000
DTEND;TZID=America/New_York:20171116T130000
END:VEVENT
END:VCALENDAR
