BEGIN:VCALENDAR
PRODID:-//eluceo/ical//2.0/EN
VERSION:2.0
CALSCALE:GREGORIAN
BEGIN:VEVENT
UID:4ed9c22d70a3b5c0b279221f9500728d
DTSTAMP:20260420T205237Z
SUMMARY:Cardozo Legal Society Meeting
DESCRIPTION:Jewish Federation of Greater Naples\nCommunity Calendar\nhttps:
 //jewishnaples.org/calendar/cardozo-legal-society-meeting-1738791053\n\nTh
 e Cardozo Society was formed as a way to network among the Jewish attorney
 s in the legal community of Greater Naples. The Cardozo Society inspires t
 o build strong relationships among legal professionals through educational
  opportunities and social events. The Cardozo Society is named after Justi
 ce Benjamin N. Cardozo\, an American lawyer and jurist who served on the N
 ew York Court of Appeals from 1914 to 1932 and as an Associate Justice of 
 the U.S. Supreme Court from 1932 until his death in ...
DTSTART;TZID=America/New_York:20250407T180000
DTEND;TZID=America/New_York:20250407T190000
END:VEVENT
END:VCALENDAR
