BEGIN:VCALENDAR
PRODID:-//eluceo/ical//2.0/EN
VERSION:2.0
CALSCALE:GREGORIAN
BEGIN:VEVENT
UID:7155eb623c699d00659296673332c372
DTSTAMP:20260422T061913Z
SUMMARY:Cardozo Event
DESCRIPTION:Jewish Federation of Greater Naples\nCommunity Calendar\nhttps:
 //jewishnaples.org/calendar/cardozo-event\n\nOur first Meet and Greet of t
 he Cardozo Legal Society will be on Thursday\, December 1 from 6:00 pm-7:3
 0 pm at Paradise Wine.   Let’s get together at Paradise Wine in their 
 front lounge at 8965 Tamiami Trail N\, Naples\, FL 34108. Reservation by M
 onday\, November 28 to Joshua Bialek at jbialek@porterwright.com
DTSTART;TZID=America/New_York:20161201T180000
DTEND;TZID=America/New_York:20161201T193000
END:VEVENT
END:VCALENDAR
