BEGIN:VCALENDAR
PRODID:-//eluceo/ical//2.0/EN
VERSION:2.0
CALSCALE:GREGORIAN
BEGIN:VEVENT
UID:21f78b475ed6b58892dc37342b8222a8
DTSTAMP:20260421T205408Z
SUMMARY:Cardozo
DESCRIPTION:Jewish Federation of Greater Naples\nCommunity Calendar\nhttps:
 //jewishnaples.org/calendar/cardozo-1567106720\n\nCardozo Legal Society\nT
 orah Study
DTSTART;TZID=America/New_York:20200220T120000
DTEND;TZID=America/New_York:20200220T130000
END:VEVENT
END:VCALENDAR
