BEGIN:VCALENDAR
PRODID:-//eluceo/ical//2.0/EN
VERSION:2.0
CALSCALE:GREGORIAN
BEGIN:VEVENT
UID:52cc3218b11554ae2d4184a1ca48d45e
DTSTAMP:20260424T105726Z
SUMMARY:Cardozo
DESCRIPTION:Jewish Federation of Greater Naples\nCommunity Calendar\nhttps:
 //jewishnaples.org/calendar/cardozo-1567106673\n\nCardozo Legal Society\nT
 orah Study
DTSTART;TZID=America/New_York:20200116T120000
DTEND;TZID=America/New_York:20200116T130000
END:VEVENT
END:VCALENDAR
