BEGIN:VCALENDAR
PRODID:-//eluceo/ical//2.0/EN
VERSION:2.0
CALSCALE:GREGORIAN
BEGIN:VEVENT
UID:11c0adca2b105ce0b094148b44abb08e
DTSTAMP:20260423T180544Z
SUMMARY:Cardozo
DESCRIPTION:Jewish Federation of Greater Naples\nCommunity Calendar\nhttps:
 //jewishnaples.org/calendar/cardozo-1567106560\n\nCardozo Legal Society\nI
 srael Wine Tasting
DTSTART;TZID=America/New_York:20191029T183000
DTEND;TZID=America/New_York:20191029T203000
END:VEVENT
END:VCALENDAR
