BEGIN:VCALENDAR
PRODID:-//eluceo/ical//2.0/EN
VERSION:2.0
CALSCALE:GREGORIAN
BEGIN:VEVENT
UID:86bb87db973383726fbb38bf9e5a0ed1
DTSTAMP:20260422T214933Z
SUMMARY:HM Exec Cmte Mtg
DESCRIPTION:Jewish Federation of Greater Naples\nCommunity Calendar\nhttps:
 //jewishnaples.org/calendar/calendar999\n\n&nbsp
DTSTART;TZID=America/New_York:20141009T150000
DTEND;TZID=America/New_York:20141009T150000
END:VEVENT
END:VCALENDAR
