BEGIN:VCALENDAR
PRODID:-//eluceo/ical//2.0/EN
VERSION:2.0
CALSCALE:GREGORIAN
BEGIN:VEVENT
UID:e684e6cf8864c8f4e4b59ed5b3c2ddca
DTSTAMP:20260423T085703Z
SUMMARY:HM Exec Cmte Mtg
DESCRIPTION:Jewish Federation of Greater Naples\nCommunity Calendar\nhttps:
 //jewishnaples.org/calendar/calendar998\n\n&nbsp
DTSTART;TZID=America/New_York:20140911T150000
DTEND;TZID=America/New_York:20140911T150000
END:VEVENT
END:VCALENDAR
