BEGIN:VCALENDAR
PRODID:-//eluceo/ical//2.0/EN
VERSION:2.0
CALSCALE:GREGORIAN
BEGIN:VEVENT
UID:1cf3be9953c05053bff5567d10de0b1c
DTSTAMP:20260423T225426Z
SUMMARY:HM Triumph TENT
DESCRIPTION:Jewish Federation of Greater Naples\nCommunity Calendar\nhttps:
 //jewishnaples.org/calendar/calendar99\n\nFundraiser
DTSTART;TZID=America/New_York:20150305T170000
DTEND;TZID=America/New_York:20150305T170000
END:VEVENT
END:VCALENDAR
