BEGIN:VCALENDAR
PRODID:-//eluceo/ical//2.0/EN
VERSION:2.0
CALSCALE:GREGORIAN
BEGIN:VEVENT
UID:eecbbeda2d28659d555d41102a72e18a
DTSTAMP:20260424T035247Z
SUMMARY:HJH Potluck Shabbat
DESCRIPTION:Jewish Federation of Greater Naples\nCommunity Calendar\nhttps:
 //jewishnaples.org/calendar/calendar989\n\n&nbsp
DTSTART;TZID=America/New_York:20150306T173000
DTEND;TZID=America/New_York:20150306T173000
END:VEVENT
END:VCALENDAR
