BEGIN:VCALENDAR
PRODID:-//eluceo/ical//2.0/EN
VERSION:2.0
CALSCALE:GREGORIAN
BEGIN:VEVENT
UID:a329d64170a00706a40f59c0aa7e0910
DTSTAMP:20260421T200735Z
SUMMARY:TS Board Mtg
DESCRIPTION:Jewish Federation of Greater Naples\nCommunity Calendar\nhttps:
 //jewishnaples.org/calendar/calendar984\n\n&nbsp
DTSTART;TZID=America/New_York:20150127T190000
DTEND;TZID=America/New_York:20150127T190000
END:VEVENT
END:VCALENDAR
