BEGIN:VCALENDAR
PRODID:-//eluceo/ical//2.0/EN
VERSION:2.0
CALSCALE:GREGORIAN
BEGIN:VEVENT
UID:a72093a24ce53d99374ca0cba7e1c19a
DTSTAMP:20260424T003221Z
SUMMARY:BT Svs
DESCRIPTION:Jewish Federation of Greater Naples\nCommunity Calendar\nhttps:
 //jewishnaples.org/calendar/calendar976\n\n&nbsp
DTSTART;TZID=America/New_York:20150425T093000
DTEND;TZID=America/New_York:20150425T093000
END:VEVENT
END:VCALENDAR
