BEGIN:VCALENDAR
PRODID:-//eluceo/ical//2.0/EN
VERSION:2.0
CALSCALE:GREGORIAN
BEGIN:VEVENT
UID:8fdfde072a5d30681b5903305b69f028
DTSTAMP:20260423T144359Z
SUMMARY:BT Svs
DESCRIPTION:Jewish Federation of Greater Naples\nCommunity Calendar\nhttps:
 //jewishnaples.org/calendar/calendar973\n\n&nbsp
DTSTART;TZID=America/New_York:20150404T093000
DTEND;TZID=America/New_York:20150404T093000
END:VEVENT
END:VCALENDAR
