BEGIN:VCALENDAR
PRODID:-//eluceo/ical//2.0/EN
VERSION:2.0
CALSCALE:GREGORIAN
BEGIN:VEVENT
UID:c40e14bada748e6afb5d6700860f49f8
DTSTAMP:20260424T025928Z
SUMMARY:BT Svs
DESCRIPTION:Jewish Federation of Greater Naples\nCommunity Calendar\nhttps:
 //jewishnaples.org/calendar/calendar972\n\n&nbsp
DTSTART;TZID=America/New_York:20150328T093000
DTEND;TZID=America/New_York:20150328T093000
END:VEVENT
END:VCALENDAR
