BEGIN:VCALENDAR
PRODID:-//eluceo/ical//2.0/EN
VERSION:2.0
CALSCALE:GREGORIAN
BEGIN:VEVENT
UID:31ac4876339377ffafec00ff342766ad
DTSTAMP:20260422T210049Z
SUMMARY:BT Svs
DESCRIPTION:Jewish Federation of Greater Naples\nCommunity Calendar\nhttps:
 //jewishnaples.org/calendar/calendar967\n\n&nbsp
DTSTART;TZID=America/New_York:20150221T093000
DTEND;TZID=America/New_York:20150221T093000
END:VEVENT
END:VCALENDAR
