BEGIN:VCALENDAR
PRODID:-//eluceo/ical//2.0/EN
VERSION:2.0
CALSCALE:GREGORIAN
BEGIN:VEVENT
UID:a795faca8216a26fe302cfbd0f1af7c6
DTSTAMP:20260423T204122Z
SUMMARY:BT Svs
DESCRIPTION:Jewish Federation of Greater Naples\nCommunity Calendar\nhttps:
 //jewishnaples.org/calendar/calendar966\n\n&nbsp
DTSTART;TZID=America/New_York:20150214T093000
DTEND;TZID=America/New_York:20150214T093000
END:VEVENT
END:VCALENDAR
