BEGIN:VCALENDAR
PRODID:-//eluceo/ical//2.0/EN
VERSION:2.0
CALSCALE:GREGORIAN
BEGIN:VEVENT
UID:74743d3f8a1b7be7ee733ec1e3b09f58
DTSTAMP:20260423T120354Z
SUMMARY:BT Svs
DESCRIPTION:Jewish Federation of Greater Naples\nCommunity Calendar\nhttps:
 //jewishnaples.org/calendar/calendar962\n\n&nbsp
DTSTART;TZID=America/New_York:20150117T093000
DTEND;TZID=America/New_York:20150117T093000
END:VEVENT
END:VCALENDAR
