BEGIN:VCALENDAR
PRODID:-//eluceo/ical//2.0/EN
VERSION:2.0
CALSCALE:GREGORIAN
BEGIN:VEVENT
UID:b877a29a345adfccc8f2ca9a863f4290
DTSTAMP:20260423T061519Z
SUMMARY:BT Svs
DESCRIPTION:Jewish Federation of Greater Naples\nCommunity Calendar\nhttps:
 //jewishnaples.org/calendar/calendar955\n\n&nbsp
DTSTART;TZID=America/New_York:20141129T093000
DTEND;TZID=America/New_York:20141129T093000
END:VEVENT
END:VCALENDAR
