BEGIN:VCALENDAR
PRODID:-//eluceo/ical//2.0/EN
VERSION:2.0
CALSCALE:GREGORIAN
BEGIN:VEVENT
UID:aee1a1e6fe38212ba3f104d84d5acd96
DTSTAMP:20260423T083111Z
SUMMARY:BT Svs
DESCRIPTION:Jewish Federation of Greater Naples\nCommunity Calendar\nhttps:
 //jewishnaples.org/calendar/calendar950\n\n&nbsp
DTSTART;TZID=America/New_York:20141025T093000
DTEND;TZID=America/New_York:20141025T093000
END:VEVENT
END:VCALENDAR
