BEGIN:VCALENDAR
PRODID:-//eluceo/ical//2.0/EN
VERSION:2.0
CALSCALE:GREGORIAN
BEGIN:VEVENT
UID:7f887640c0f9030e174d587b3818bc18
DTSTAMP:20260423T061555Z
SUMMARY:BT Svs
DESCRIPTION:Jewish Federation of Greater Naples\nCommunity Calendar\nhttps:
 //jewishnaples.org/calendar/calendar940\n\n&nbsp
DTSTART;TZID=America/New_York:20140816T093000
DTEND;TZID=America/New_York:20140816T093000
END:VEVENT
END:VCALENDAR
