BEGIN:VCALENDAR
PRODID:-//eluceo/ical//2.0/EN
VERSION:2.0
CALSCALE:GREGORIAN
BEGIN:VEVENT
UID:bd64a7458afa60b506270c7fbb596eed
DTSTAMP:20260420T161613Z
SUMMARY:BT Svs
DESCRIPTION:Jewish Federation of Greater Naples\nCommunity Calendar\nhttps:
 //jewishnaples.org/calendar/calendar938\n\n&nbsp
DTSTART;TZID=America/New_York:20140802T093000
DTEND;TZID=America/New_York:20140802T093000
END:VEVENT
END:VCALENDAR
