BEGIN:VCALENDAR
PRODID:-//eluceo/ical//2.0/EN
VERSION:2.0
CALSCALE:GREGORIAN
BEGIN:VEVENT
UID:ecd745d1711a437a37d2535bdafaa3c3
DTSTAMP:20260423T095733Z
SUMMARY:BT Svs
DESCRIPTION:Jewish Federation of Greater Naples\nCommunity Calendar\nhttps:
 //jewishnaples.org/calendar/calendar937\n\n&nbsp
DTSTART;TZID=America/New_York:20140726T093000
DTEND;TZID=America/New_York:20140726T093000
END:VEVENT
END:VCALENDAR
