BEGIN:VCALENDAR
PRODID:-//eluceo/ical//2.0/EN
VERSION:2.0
CALSCALE:GREGORIAN
BEGIN:VEVENT
UID:1cb94a6e91eb5a614e28c39a9deee2f2
DTSTAMP:20260422T094719Z
SUMMARY:BT Svs
DESCRIPTION:Jewish Federation of Greater Naples\nCommunity Calendar\nhttps:
 //jewishnaples.org/calendar/calendar935\n\n&nbsp
DTSTART;TZID=America/New_York:20140712T093000
DTEND;TZID=America/New_York:20140712T093000
END:VEVENT
END:VCALENDAR
