BEGIN:VCALENDAR
PRODID:-//eluceo/ical//2.0/EN
VERSION:2.0
CALSCALE:GREGORIAN
BEGIN:VEVENT
UID:801999a4500c0c60d14f659b4fdc8d62
DTSTAMP:20260423T142257Z
SUMMARY:BT Lecture
DESCRIPTION:Jewish Federation of Greater Naples\nCommunity Calendar\nhttps:
 //jewishnaples.org/calendar/calendar93\n\n&nbsp
DTSTART;TZID=America/New_York:20150226T193000
DTEND;TZID=America/New_York:20150226T193000
END:VEVENT
END:VCALENDAR
