BEGIN:VCALENDAR
PRODID:-//eluceo/ical//2.0/EN
VERSION:2.0
CALSCALE:GREGORIAN
BEGIN:VEVENT
UID:37406416a9eeb84beffacdbee4398424
DTSTAMP:20260423T235402Z
SUMMARY:NJC - Mens Mtg
DESCRIPTION:Jewish Federation of Greater Naples\nCommunity Calendar\nhttps:
 //jewishnaples.org/calendar/calendar924\n\nPelican Marsh Golf Club
DTSTART;TZID=America/New_York:20150416T120000
DTEND;TZID=America/New_York:20150416T120000
END:VEVENT
END:VCALENDAR
