BEGIN:VCALENDAR
PRODID:-//eluceo/ical//2.0/EN
VERSION:2.0
CALSCALE:GREGORIAN
BEGIN:VEVENT
UID:ac80ba89253c435e2d384c546ff8028d
DTSTAMP:20260423T180923Z
SUMMARY:TS Services
DESCRIPTION:Jewish Federation of Greater Naples\nCommunity Calendar\nhttps:
 //jewishnaples.org/calendar/calendar909\n\nMen?s Club Shabbat with Choir
DTSTART;TZID=America/New_York:20150213T193000
DTEND;TZID=America/New_York:20150213T193000
END:VEVENT
END:VCALENDAR
