BEGIN:VCALENDAR
PRODID:-//eluceo/ical//2.0/EN
VERSION:2.0
CALSCALE:GREGORIAN
BEGIN:VEVENT
UID:639da32a1b3d4ae674361a696a5a888e
DTSTAMP:20260420T184337Z
SUMMARY:TS Services
DESCRIPTION:Jewish Federation of Greater Naples\nCommunity Calendar\nhttps:
 //jewishnaples.org/calendar/calendar902\n\n&nbsp
DTSTART;TZID=America/New_York:20140711T193000
DTEND;TZID=America/New_York:20140711T193000
END:VEVENT
END:VCALENDAR
