BEGIN:VCALENDAR
PRODID:-//eluceo/ical//2.0/EN
VERSION:2.0
CALSCALE:GREGORIAN
BEGIN:VEVENT
UID:a3c4e7a860c2c8714266ffb07664dcde
DTSTAMP:20260422T000327Z
SUMMARY:BT Youth Ed Program
DESCRIPTION:Jewish Federation of Greater Naples\nCommunity Calendar\nhttps:
 //jewishnaples.org/calendar/calendar898\n\n&nbsp
DTSTART;TZID=America/New_York:20150422T163000
DTEND;TZID=America/New_York:20150422T163000
END:VEVENT
END:VCALENDAR
